BEGIN:VCALENDAR
VERSION:2.0
PRODID:-//Journeymen - ECPv6.15.17//NONSGML v1.0//EN
CALSCALE:GREGORIAN
METHOD:PUBLISH
X-ORIGINAL-URL:https://journeymenband.com
X-WR-CALDESC:Events for Journeymen
REFRESH-INTERVAL;VALUE=DURATION:PT1H
X-Robots-Tag:noindex
X-PUBLISHED-TTL:PT1H
BEGIN:VTIMEZONE
TZID:UTC
BEGIN:STANDARD
TZOFFSETFROM:+0000
TZOFFSETTO:+0000
TZNAME:UTC
DTSTART:20240101T000000
END:STANDARD
END:VTIMEZONE
BEGIN:VEVENT
DTSTART;TZID=UTC:20251130T140000
DTEND;TZID=UTC:20251130T170000
DTSTAMP:20260425T111031
CREATED:20250902T182348Z
LAST-MODIFIED:20251007T154540Z
UID:3149810-1764511200-1764522000@journeymenband.com
SUMMARY:The Vibe - Temecula
DESCRIPTION:
URL:https://journeymenband.com/event/old-town-blues-club-2/
LOCATION:The Vibe – Temecula\, 28636 Old Town Front St.\, Temecula\, CA\, 92590\, United States
END:VEVENT
END:VCALENDAR