BEGIN:VCALENDAR
VERSION:2.0
PRODID:-//Journeymen - ECPv6.15.17//NONSGML v1.0//EN
CALSCALE:GREGORIAN
METHOD:PUBLISH
X-ORIGINAL-URL:https://journeymenband.com
X-WR-CALDESC:Events for Journeymen
REFRESH-INTERVAL;VALUE=DURATION:PT1H
X-Robots-Tag:noindex
X-PUBLISHED-TTL:PT1H
BEGIN:VTIMEZONE
TZID:UTC
BEGIN:STANDARD
TZOFFSETFROM:+0000
TZOFFSETTO:+0000
TZNAME:UTC
DTSTART:20240101T000000
END:STANDARD
END:VTIMEZONE
BEGIN:VEVENT
DTSTART;TZID=UTC:20250704T170000
DTEND;TZID=UTC:20250704T200000
DTSTAMP:20260420T234001
CREATED:20250604T002757Z
LAST-MODIFIED:20250628T190238Z
UID:2802983-1751648400-1751659200@journeymenband.com
SUMMARY:San Diego Mission Bay Boat & Ski Club
DESCRIPTION:
URL:https://journeymenband.com/event/mission-bay-yacht-club/
LOCATION:Mission Bay Yacht Club\, 2606 N Mission Bay Dr.\, San Diego\, CA\, 92109\, United States
END:VEVENT
BEGIN:VEVENT
DTSTART;TZID=UTC:20250726T200000
DTEND;TZID=UTC:20250726T210000
DTSTAMP:20260420T234001
CREATED:20250604T002934Z
LAST-MODIFIED:20250604T002934Z
UID:2802995-1753560000-1753563600@journeymenband.com
SUMMARY:Belly Up
DESCRIPTION:
URL:https://journeymenband.com/event/belly-up/
LOCATION:Belly Up\, 143 S Cedros Ave.\, Solana Beach\, CA\, 92075\, United States
END:VEVENT
END:VCALENDAR