BEGIN:VCALENDAR
VERSION:2.0
PRODID:-//Journeymen - ECPv6.15.17//NONSGML v1.0//EN
CALSCALE:GREGORIAN
METHOD:PUBLISH
X-ORIGINAL-URL:https://journeymenband.com
X-WR-CALDESC:Events for Journeymen
REFRESH-INTERVAL;VALUE=DURATION:PT1H
X-Robots-Tag:noindex
X-PUBLISHED-TTL:PT1H
BEGIN:VTIMEZONE
TZID:UTC
BEGIN:STANDARD
TZOFFSETFROM:+0000
TZOFFSETTO:+0000
TZNAME:UTC
DTSTART:20230101T000000
END:STANDARD
END:VTIMEZONE
BEGIN:VEVENT
DTSTART;TZID=UTC:20241005T190000
DTEND;TZID=UTC:20241005T210000
DTSTAMP:20260420T025839
CREATED:20240924T001052Z
LAST-MODIFIED:20240924T001052Z
UID:1750676-1728154800-1728162000@journeymenband.com
SUMMARY:Historic Hemet Theater
DESCRIPTION:
URL:https://journeymenband.com/event/historic-hemet-theater/
LOCATION:Historic Hemet Theater\, 216 E Florida Ave.\, Hemet\, CA\, 92543\, United States
END:VEVENT
BEGIN:VEVENT
DTSTART;TZID=UTC:20241006T180000
DTEND;TZID=UTC:20241006T193000
DTSTAMP:20260420T025839
CREATED:20240719T030529Z
LAST-MODIFIED:20240719T030529Z
UID:1621505-1728237600-1728243000@journeymenband.com
SUMMARY:La Mesa Oktoberfest
DESCRIPTION:
URL:https://journeymenband.com/event/la-mesa-oktoberfest/
LOCATION:La Mesa Oktoberfest\, 4253 Palm Ave\, La Mesa\, CA\, United States
END:VEVENT
BEGIN:VEVENT
DTSTART;TZID=UTC:20241019T190000
DTEND;TZID=UTC:20241019T220000
DTSTAMP:20260420T025839
CREATED:20240719T030321Z
LAST-MODIFIED:20240719T030321Z
UID:1621504-1729364400-1729375200@journeymenband.com
SUMMARY:Private Event
DESCRIPTION:
URL:https://journeymenband.com/event/private-event-4/
LOCATION:CA
END:VEVENT
END:VCALENDAR