BEGIN:VCALENDAR
VERSION:2.0
PRODID:-//Journeymen - ECPv6.15.17//NONSGML v1.0//EN
CALSCALE:GREGORIAN
METHOD:PUBLISH
X-WR-CALNAME:Journeymen
X-ORIGINAL-URL:https://journeymenband.com
X-WR-CALDESC:Events for Journeymen
REFRESH-INTERVAL;VALUE=DURATION:PT1H
X-Robots-Tag:noindex
X-PUBLISHED-TTL:PT1H
BEGIN:VTIMEZONE
TZID:UTC
BEGIN:STANDARD
TZOFFSETFROM:+0000
TZOFFSETTO:+0000
TZNAME:UTC
DTSTART:20230101T000000
END:STANDARD
END:VTIMEZONE
BEGIN:VEVENT
DTSTART;TZID=UTC:20240622T200000
DTEND;TZID=UTC:20240622T233000
DTSTAMP:20260423T143416
CREATED:20240329T180223Z
LAST-MODIFIED:20240329T180749Z
UID:1594919-1719086400-1719099000@journeymenband.com
SUMMARY:The Barn\, Ramona
DESCRIPTION:Get reservations for dinner starting at 6:30.
URL:https://journeymenband.com/event/the-barn-ramona/
LOCATION:The Barn\, 344 Main St\, CA 92065\, Ramona\, CA\, 92065\, United States
END:VEVENT
BEGIN:VEVENT
DTSTART;TZID=UTC:20240627T190000
DTEND;TZID=UTC:20240627T220000
DTSTAMP:20260423T143416
CREATED:20240223T031417Z
LAST-MODIFIED:20240223T031417Z
UID:1593689-1719514800-1719525600@journeymenband.com
SUMMARY:Santee Summer Concerts
DESCRIPTION:
URL:https://journeymenband.com/event/santee-summer-concerts/
LOCATION:Santee Summer Concerts\, Santee\, CA\, 92071\, United States
END:VEVENT
END:VCALENDAR