BEGIN:VCALENDAR
VERSION:2.0
PRODID:-//Journeymen - ECPv6.15.17//NONSGML v1.0//EN
CALSCALE:GREGORIAN
METHOD:PUBLISH
X-WR-CALNAME:Journeymen
X-ORIGINAL-URL:https://journeymenband.com
X-WR-CALDESC:Events for Journeymen
REFRESH-INTERVAL;VALUE=DURATION:PT1H
X-Robots-Tag:noindex
X-PUBLISHED-TTL:PT1H
BEGIN:VTIMEZONE
TZID:UTC
BEGIN:STANDARD
TZOFFSETFROM:+0000
TZOFFSETTO:+0000
TZNAME:UTC
DTSTART:20220101T000000
END:STANDARD
END:VTIMEZONE
BEGIN:VEVENT
DTSTART;TZID=UTC:20231021T180000
DTEND;TZID=UTC:20231021T210000
DTSTAMP:20260424T110745
CREATED:20230111T225422Z
LAST-MODIFIED:20230111T225422Z
UID:1376140-1697911200-1697922000@journeymenband.com
SUMMARY:Private Event
DESCRIPTION:
URL:https://journeymenband.com/event/private-event/
LOCATION:CA
END:VEVENT
BEGIN:VEVENT
DTSTART;TZID=UTC:20231028T200000
DTEND;TZID=UTC:20231028T230000
DTSTAMP:20260424T110745
CREATED:20230111T225522Z
LAST-MODIFIED:20230111T225522Z
UID:1376141-1698523200-1698534000@journeymenband.com
SUMMARY:Private Event
DESCRIPTION:
URL:https://journeymenband.com/event/private-event-2/
LOCATION:CA
END:VEVENT
END:VCALENDAR