BEGIN:VCALENDAR
VERSION:2.0
PRODID:-//Journeymen - ECPv6.15.17//NONSGML v1.0//EN
CALSCALE:GREGORIAN
METHOD:PUBLISH
X-WR-CALNAME:Journeymen
X-ORIGINAL-URL:https://journeymenband.com
X-WR-CALDESC:Events for Journeymen
REFRESH-INTERVAL;VALUE=DURATION:PT1H
X-Robots-Tag:noindex
X-PUBLISHED-TTL:PT1H
BEGIN:VTIMEZONE
TZID:Asia/Shanghai
BEGIN:STANDARD
TZOFFSETFROM:+0800
TZOFFSETTO:+0800
TZNAME:CST
DTSTART:20220101T000000
END:STANDARD
END:VTIMEZONE
BEGIN:VTIMEZONE
TZID:UTC
BEGIN:STANDARD
TZOFFSETFROM:+0000
TZOFFSETTO:+0000
TZNAME:UTC
DTSTART:20220101T000000
END:STANDARD
END:VTIMEZONE
BEGIN:VEVENT
DTSTART;TZID=Asia/Shanghai:20230428T183000
DTEND;TZID=Asia/Shanghai:20230428T210000
DTSTAMP:20260420T063936
CREATED:20230111T225223Z
LAST-MODIFIED:20230111T225321Z
UID:1376138-1682706600-1682715600@journeymenband.com
SUMMARY:Thornton Winery
DESCRIPTION:
URL:https://journeymenband.com/event/thornton-winery/
LOCATION:Thornton Winery\, 32575 Rancho California Rd\, Temecula\, CA 92591\, Temecula\, CA\, 92591\, United States
END:VEVENT
BEGIN:VEVENT
DTSTART;TZID=UTC:20230414T200000
DTEND;TZID=UTC:20230414T230000
DTSTAMP:20260420T063936
CREATED:20230303T201345Z
LAST-MODIFIED:20230303T201345Z
UID:1378250-1681502400-1681513200@journeymenband.com
SUMMARY:The Barn
DESCRIPTION:
URL:https://journeymenband.com/event/the-barn/
LOCATION:The Barn\, 344 Main St\, CA 92065\, Ramona\, CA\, 92065\, United States
END:VEVENT
END:VCALENDAR