BEGIN:VCALENDAR
VERSION:2.0
PRODID:-//Journeymen - ECPv6.15.17//NONSGML v1.0//EN
CALSCALE:GREGORIAN
METHOD:PUBLISH
X-WR-CALNAME:Journeymen
X-ORIGINAL-URL:https://journeymenband.com
X-WR-CALDESC:Events for Journeymen
REFRESH-INTERVAL;VALUE=DURATION:PT1H
X-Robots-Tag:noindex
X-PUBLISHED-TTL:PT1H
BEGIN:VTIMEZONE
TZID:UTC
BEGIN:STANDARD
TZOFFSETFROM:+0000
TZOFFSETTO:+0000
TZNAME:UTC
DTSTART:20240101T000000
END:STANDARD
END:VTIMEZONE
BEGIN:VEVENT
DTSTART;TZID=UTC:20250621T180000
DTEND;TZID=UTC:20250621T213000
DTSTAMP:20260420T233846
CREATED:20250515T233319Z
LAST-MODIFIED:20250515T233319Z
UID:2614518-1750528800-1750541400@journeymenband.com
SUMMARY:Descanso Junction
DESCRIPTION:
URL:https://journeymenband.com/event/descanso-junction-2/
LOCATION:Descanso Junction Restaurant\, 8306 CA-79\, Descanso\, CA\, 91916\, United States
END:VEVENT
END:VCALENDAR