BEGIN:VCALENDAR
VERSION:2.0
PRODID:-//Journeymen - ECPv6.15.17//NONSGML v1.0//EN
CALSCALE:GREGORIAN
METHOD:PUBLISH
X-WR-CALNAME:Journeymen
X-ORIGINAL-URL:https://journeymenband.com
X-WR-CALDESC:Events for Journeymen
REFRESH-INTERVAL;VALUE=DURATION:PT1H
X-Robots-Tag:noindex
X-PUBLISHED-TTL:PT1H
BEGIN:VTIMEZONE
TZID:UTC
BEGIN:STANDARD
TZOFFSETFROM:+0000
TZOFFSETTO:+0000
TZNAME:UTC
DTSTART:20230101T000000
END:STANDARD
END:VTIMEZONE
BEGIN:VEVENT
DTSTART;TZID=UTC:20240211T090000
DTEND;TZID=UTC:20240211T110000
DTSTAMP:20260424T063241
CREATED:20240203T203527Z
LAST-MODIFIED:20240203T203527Z
UID:1592353-1707642000-1707649200@journeymenband.com
SUMMARY:Kook 10K Run
DESCRIPTION:
URL:https://journeymenband.com/event/kook-10k-run/
LOCATION:Kook 10K Run\, 101 E. D St.\, Encinitas\, CA\, 92024\, United States
END:VEVENT
END:VCALENDAR