BEGIN:VCALENDAR
VERSION:2.0
PRODID:-//Journeymen - ECPv6.15.17//NONSGML v1.0//EN
CALSCALE:GREGORIAN
METHOD:PUBLISH
X-WR-CALNAME:Journeymen
X-ORIGINAL-URL:https://journeymenband.com
X-WR-CALDESC:Events for Journeymen
REFRESH-INTERVAL;VALUE=DURATION:PT1H
X-Robots-Tag:noindex
X-PUBLISHED-TTL:PT1H
BEGIN:VTIMEZONE
TZID:UTC
BEGIN:STANDARD
TZOFFSETFROM:+0000
TZOFFSETTO:+0000
TZNAME:UTC
DTSTART:20220101T000000
END:STANDARD
END:VTIMEZONE
BEGIN:VEVENT
DTSTART;TZID=UTC:20231118T190000
DTEND;TZID=UTC:20231118T230000
DTSTAMP:20260424T124139
CREATED:20230222T021442Z
LAST-MODIFIED:20230222T021505Z
UID:1376245-1700334000-1700348400@journeymenband.com
SUMMARY:Enchanted Ranch
DESCRIPTION:
URL:https://journeymenband.com/event/enchanted-ranch-concert/
LOCATION:Enchanted Ranch\, 1300 Scull Rd.\, San Marcos\, TX\, TX\, 78666\, United States
END:VEVENT
END:VCALENDAR